Package: spatialSimGP Version: 1.0.0 Command: /home/biocbuild/R/R/bin/R CMD check --install=check:spatialSimGP.install-out.txt --library=/home/biocbuild/R/R/site-library --no-vignettes --timings spatialSimGP_1.0.0.tar.gz StartedAt: 2024-11-20 12:44:58 -0000 (Wed, 20 Nov 2024) EndedAt: 2024-11-20 12:49:44 -0000 (Wed, 20 Nov 2024) EllapsedTime: 285.5 seconds RetCode: 0 Status: OK CheckDir: spatialSimGP.Rcheck Warnings: 0