Package: spatialSimGP Version: 1.0.0 Command: /Library/Frameworks/R.framework/Resources/bin/R CMD check --install=check:spatialSimGP.install-out.txt --library=/Library/Frameworks/R.framework/Resources/library --no-vignettes --timings spatialSimGP_1.0.0.tar.gz StartedAt: 2025-04-02 09:45:58 -0400 (Wed, 02 Apr 2025) EndedAt: 2025-04-02 09:49:40 -0400 (Wed, 02 Apr 2025) EllapsedTime: 222.5 seconds RetCode: 0 Status: OK CheckDir: spatialSimGP.Rcheck Warnings: 0