Package: spatialHeatmap Version: 2.12.1 Command: /home/biocbuild/R/R/bin/R CMD INSTALL spatialHeatmap StartedAt: 2025-03-31 21:03:56 -0000 (Mon, 31 Mar 2025) EndedAt: 2025-03-31 21:04:49 -0000 (Mon, 31 Mar 2025) EllapsedTime: 53.3 seconds RetCode: 0 Status: OK