Package: spatialHeatmap Version: 2.12.1 Command: F:\biocbuild\bbs-3.20-bioc\R\bin\R.exe CMD check --no-multiarch --install=check:spatialHeatmap.install-out.txt --library=F:\biocbuild\bbs-3.20-bioc\R\library --no-vignettes --timings spatialHeatmap_2.12.1.tar.gz StartedAt: 2025-02-04 06:32:57 -0500 (Tue, 04 Feb 2025) EndedAt: 2025-02-04 06:41:03 -0500 (Tue, 04 Feb 2025) EllapsedTime: 486.6 seconds RetCode: 0 Status: OK CheckDir: spatialHeatmap.Rcheck Warnings: 0