Package: spatialHeatmap Version: 2.12.1 Command: chmod a+r spatialHeatmap -R && F:\biocbuild\bbs-3.20-bioc\R\bin\R.exe CMD build --keep-empty-dirs --no-resave-data spatialHeatmap StartedAt: 2025-02-03 22:19:03 -0500 (Mon, 03 Feb 2025) EndedAt: 2025-02-03 22:30:48 -0500 (Mon, 03 Feb 2025) EllapsedTime: 704.4 seconds RetCode: 0 Status: OK PackageFile: spatialHeatmap_2.12.1.tar.gz PackageFileSize: 27.03 MiB