Package: spatialHeatmap Version: 2.12.1 Command: rm -rf spatialHeatmap.buildbin-libdir && mkdir spatialHeatmap.buildbin-libdir && F:\biocbuild\bbs-3.20-bioc\R\bin\R.exe CMD INSTALL --build --library=spatialHeatmap.buildbin-libdir spatialHeatmap_2.12.1.tar.gz StartedAt: 2025-02-04 09:34:55 -0500 (Tue, 04 Feb 2025) EndedAt: 2025-02-04 09:37:19 -0500 (Tue, 04 Feb 2025) EllapsedTime: 143.7 seconds RetCode: 0 Status: OK PackageFile: spatialHeatmap_2.12.1.zip PackageFileSize: 26.73 MiB