Package: spatialHeatmap Version: 2.12.1 Command: /home/biocbuild/bbs-3.20-bioc/R/bin/R CMD INSTALL spatialHeatmap StartedAt: 2025-03-31 15:55:15 -0400 (Mon, 31 Mar 2025) EndedAt: 2025-03-31 15:55:53 -0400 (Mon, 31 Mar 2025) EllapsedTime: 38.4 seconds RetCode: 0 Status: OK