Package: spatialHeatmap Version: 2.12.1 Command: /Library/Frameworks/R.framework/Resources/bin/R CMD INSTALL spatialHeatmap StartedAt: 2025-01-27 16:38:26 -0500 (Mon, 27 Jan 2025) EndedAt: 2025-01-27 16:40:04 -0500 (Mon, 27 Jan 2025) EllapsedTime: 98.1 seconds RetCode: 0 Status: OK