Package: spatialHeatmap Version: 2.12.1 Command: /Library/Frameworks/R.framework/Resources/bin/R CMD build --keep-empty-dirs --no-resave-data spatialHeatmap StartedAt: 2025-01-27 22:49:03 -0500 (Mon, 27 Jan 2025) EndedAt: 2025-01-27 22:59:03 -0500 (Mon, 27 Jan 2025) EllapsedTime: 600.3 seconds RetCode: 0 Status: OK PackageFile: spatialHeatmap_2.12.1.tar.gz PackageFileSize: 32.41 MiB