Package: spatialHeatmap Version: 2.12.1 Command: rm -rf spatialHeatmap.buildbin-libdir && mkdir spatialHeatmap.buildbin-libdir && /Users/biocbuild/BBS/utils/build-universal.sh spatialHeatmap_2.12.1.tar.gz /Library/Frameworks/R.framework/Resources/bin/R spatialHeatmap.buildbin-libdir StartedAt: 2025-01-28 14:40:07 -0500 (Tue, 28 Jan 2025) EndedAt: 2025-01-28 14:42:30 -0500 (Tue, 28 Jan 2025) EllapsedTime: 142.3 seconds RetCode: 0 Status: OK PackageFile: spatialHeatmap_2.12.1.tgz PackageFileSize: 32.16 MiB