Package: spatialHeatmap Version: 2.12.1 Command: /Library/Frameworks/R.framework/Resources/bin/R CMD check --install=check:spatialHeatmap.install-out.txt --library=/Library/Frameworks/R.framework/Resources/library --no-vignettes --timings spatialHeatmap_2.12.1.tar.gz StartedAt: 2025-01-29 10:01:46 -0500 (Wed, 29 Jan 2025) EndedAt: 2025-01-29 10:09:14 -0500 (Wed, 29 Jan 2025) EllapsedTime: 447.8 seconds RetCode: 0 Status: OK CheckDir: spatialHeatmap.Rcheck Warnings: 0