Package: spatialHeatmap Version: 2.12.1 Command: rm -rf spatialHeatmap.buildbin-libdir && mkdir spatialHeatmap.buildbin-libdir && /Users/biocbuild/BBS/utils/build-universal.sh spatialHeatmap_2.12.1.tar.gz /Library/Frameworks/R.framework/Resources/bin/R spatialHeatmap.buildbin-libdir StartedAt: 2025-01-29 16:43:48 -0500 (Wed, 29 Jan 2025) EndedAt: 2025-01-29 16:44:49 -0500 (Wed, 29 Jan 2025) EllapsedTime: 60.9 seconds RetCode: 0 Status: OK PackageFile: spatialHeatmap_2.12.1.tgz PackageFileSize: 32.17 MiB