Package: sparsenetgls Version: 1.24.0 Command: /Library/Frameworks/R.framework/Resources/bin/R CMD INSTALL sparsenetgls StartedAt: 2025-01-27 16:16:22 -0500 (Mon, 27 Jan 2025) EndedAt: 2025-01-27 16:16:37 -0500 (Mon, 27 Jan 2025) EllapsedTime: 14.7 seconds RetCode: 0 Status: OK