Package: sparsenetgls Version: 1.24.0 Command: rm -rf sparsenetgls.buildbin-libdir && mkdir sparsenetgls.buildbin-libdir && /Users/biocbuild/BBS/utils/build-universal.sh sparsenetgls_1.24.0.tar.gz /Library/Frameworks/R.framework/Resources/bin/R sparsenetgls.buildbin-libdir StartedAt: 2025-01-28 14:39:34 -0500 (Tue, 28 Jan 2025) EndedAt: 2025-01-28 14:39:54 -0500 (Tue, 28 Jan 2025) EllapsedTime: 20.1 seconds RetCode: 0 Status: OK PackageFile: sparsenetgls_1.24.0.tgz PackageFileSize: 673 KiB