Package: sparseMatrixStats Version: 1.18.0 Command: /home/biocbuild/bbs-3.20-bioc/R/bin/R CMD check --install=check:sparseMatrixStats.install-out.txt --library=/home/biocbuild/bbs-3.20-bioc/R/site-library --timings sparseMatrixStats_1.18.0.tar.gz StartedAt: 2025-01-28 03:25:21 -0500 (Tue, 28 Jan 2025) EndedAt: 2025-01-28 03:26:16 -0500 (Tue, 28 Jan 2025) EllapsedTime: 55.0 seconds RetCode: 0 Status: OK CheckDir: sparseMatrixStats.Rcheck Warnings: 0