Package: sparseMatrixStats Version: 1.18.0 Command: /home/biocbuild/bbs-3.20-bioc/R/bin/R CMD build --keep-empty-dirs --no-resave-data --md5 sparseMatrixStats StartedAt: 2025-01-27 20:10:36 -0500 (Mon, 27 Jan 2025) EndedAt: 2025-01-27 20:11:08 -0500 (Mon, 27 Jan 2025) EllapsedTime: 32.0 seconds RetCode: 0 Status: OK PackageFile: sparseMatrixStats_1.18.0.tar.gz PackageFileSize: 689.8 KiB