Package: sparseMatrixStats Version: 1.18.0 Command: /Library/Frameworks/R.framework/Resources/bin/R CMD build --keep-empty-dirs --no-resave-data sparseMatrixStats StartedAt: 2025-01-30 23:03:12 -0500 (Thu, 30 Jan 2025) EndedAt: 2025-01-30 23:04:16 -0500 (Thu, 30 Jan 2025) EllapsedTime: 64.0 seconds RetCode: 0 Status: OK PackageFile: sparseMatrixStats_1.18.0.tar.gz PackageFileSize: 687.6 KiB