Package: sparseMatrixStats Version: 1.18.0 Command: rm -rf sparseMatrixStats.buildbin-libdir && mkdir sparseMatrixStats.buildbin-libdir && /Users/biocbuild/BBS/utils/build-universal.sh sparseMatrixStats_1.18.0.tar.gz /Library/Frameworks/R.framework/Resources/bin/R sparseMatrixStats.buildbin-libdir StartedAt: 2025-01-31 13:45:41 -0500 (Fri, 31 Jan 2025) EndedAt: 2025-01-31 13:46:36 -0500 (Fri, 31 Jan 2025) EllapsedTime: 55.7 seconds RetCode: 0 Status: OK PackageFile: sparseMatrixStats_1.18.0.tgz PackageFileSize: 1.139 MiB