Package: sparseMatrixStats Version: 1.18.0 Command: /Library/Frameworks/R.framework/Resources/bin/R CMD INSTALL sparseMatrixStats StartedAt: 2025-02-03 15:16:37 -0500 (Mon, 03 Feb 2025) EndedAt: 2025-02-03 15:17:04 -0500 (Mon, 03 Feb 2025) EllapsedTime: 27.2 seconds RetCode: 0 Status: OK