Package: sparseMatrixStats Version: 1.18.0 Command: /Library/Frameworks/R.framework/Resources/bin/R CMD check --install=check:sparseMatrixStats.install-out.txt --library=/Library/Frameworks/R.framework/Resources/library --no-vignettes --timings sparseMatrixStats_1.18.0.tar.gz StartedAt: 2025-02-05 10:58:58 -0500 (Wed, 05 Feb 2025) EndedAt: 2025-02-05 11:00:08 -0500 (Wed, 05 Feb 2025) EllapsedTime: 69.5 seconds RetCode: 0 Status: OK CheckDir: sparseMatrixStats.Rcheck Warnings: 0