Package: spaSim Version: 1.8.0 Command: chmod a+r spaSim -R && F:\biocbuild\bbs-3.20-bioc\R\bin\R.exe CMD build --keep-empty-dirs --no-resave-data spaSim StartedAt: 2025-03-31 22:03:47 -0400 (Mon, 31 Mar 2025) EndedAt: 2025-03-31 22:06:06 -0400 (Mon, 31 Mar 2025) EllapsedTime: 138.8 seconds RetCode: 0 Status: OK PackageFile: spaSim_1.8.0.tar.gz PackageFileSize: 1004 KiB