Package: spaSim Version: 1.8.0 Command: /home/biocbuild/bbs-3.20-bioc/R/bin/R CMD INSTALL spaSim StartedAt: 2025-01-27 16:10:31 -0500 (Mon, 27 Jan 2025) EndedAt: 2025-01-27 16:11:01 -0500 (Mon, 27 Jan 2025) EllapsedTime: 30.3 seconds RetCode: 0 Status: OK