Package: spaSim Version: 1.8.0 Command: /Library/Frameworks/R.framework/Resources/bin/R CMD INSTALL spaSim StartedAt: 2025-01-27 15:45:14 -0500 (Mon, 27 Jan 2025) EndedAt: 2025-01-27 15:45:45 -0500 (Mon, 27 Jan 2025) EllapsedTime: 31.3 seconds RetCode: 0 Status: OK