Package: spaSim Version: 1.8.0 Command: /Library/Frameworks/R.framework/Resources/bin/R CMD build --keep-empty-dirs --no-resave-data spaSim StartedAt: 2025-04-01 08:17:41 -0400 (Tue, 01 Apr 2025) EndedAt: 2025-04-01 08:20:03 -0400 (Tue, 01 Apr 2025) EllapsedTime: 142.7 seconds RetCode: 0 Status: OK PackageFile: spaSim_1.8.0.tar.gz PackageFileSize: 3.901 MiB