Package: soGGi Version: 1.38.0 Command: /home/biocbuild/R/R/bin/R CMD build --keep-empty-dirs --no-resave-data soGGi StartedAt: 2025-01-28 03:29:20 -0000 (Tue, 28 Jan 2025) EndedAt: 2025-01-28 03:30:57 -0000 (Tue, 28 Jan 2025) EllapsedTime: 97.0 seconds RetCode: 0 Status: OK PackageFile: soGGi_1.38.0.tar.gz PackageFileSize: 3.159 MiB