Package: soGGi Version: 1.38.0 Command: rm -rf soGGi.buildbin-libdir && mkdir soGGi.buildbin-libdir && F:\biocbuild\bbs-3.20-bioc\R\bin\R.exe CMD INSTALL --build --library=soGGi.buildbin-libdir soGGi_1.38.0.tar.gz StartedAt: 2025-01-28 09:12:14 -0500 (Tue, 28 Jan 2025) EndedAt: 2025-01-28 09:13:19 -0500 (Tue, 28 Jan 2025) EllapsedTime: 65.6 seconds RetCode: 0 Status: OK PackageFile: soGGi_1.38.0.zip PackageFileSize: 3.439 MiB