Package: soGGi Version: 1.38.0 Command: /home/biocbuild/bbs-3.20-bioc/R/bin/R CMD INSTALL soGGi StartedAt: 2025-01-27 16:22:47 -0500 (Mon, 27 Jan 2025) EndedAt: 2025-01-27 16:23:35 -0500 (Mon, 27 Jan 2025) EllapsedTime: 48.1 seconds RetCode: 0 Status: OK