Package: soGGi Version: 1.38.0 Command: /Library/Frameworks/R.framework/Resources/bin/R CMD INSTALL soGGi StartedAt: 2025-01-27 15:56:11 -0500 (Mon, 27 Jan 2025) EndedAt: 2025-01-27 15:57:42 -0500 (Mon, 27 Jan 2025) EllapsedTime: 91.1 seconds RetCode: 0 Status: OK