Package: snpStats Version: 1.56.0 Command: /home/biocbuild/R/R/bin/R CMD INSTALL snpStats StartedAt: 2025-01-30 20:54:58 -0000 (Thu, 30 Jan 2025) EndedAt: 2025-01-30 20:55:21 -0000 (Thu, 30 Jan 2025) EllapsedTime: 23.3 seconds RetCode: 0 Status: OK