Package: snpStats Version: 1.56.0 Command: /home/biocbuild/R/R/bin/R CMD check --install=check:snpStats.install-out.txt --library=/home/biocbuild/R/R/site-library --no-vignettes --timings snpStats_1.56.0.tar.gz StartedAt: 2025-01-31 10:34:53 -0000 (Fri, 31 Jan 2025) EndedAt: 2025-01-31 10:36:05 -0000 (Fri, 31 Jan 2025) EllapsedTime: 72.0 seconds RetCode: 0 Status: WARNINGS CheckDir: snpStats.Rcheck Warnings: 2