Package: snpStats Version: 1.56.0 Command: /Library/Frameworks/R.framework/Resources/bin/R CMD INSTALL snpStats StartedAt: 2025-02-03 16:27:08 -0500 (Mon, 03 Feb 2025) EndedAt: 2025-02-03 16:27:47 -0500 (Mon, 03 Feb 2025) EllapsedTime: 38.3 seconds RetCode: 0 Status: OK