Package: snpStats Version: 1.56.0 Command: /Library/Frameworks/R.framework/Resources/bin/R CMD check --install=check:snpStats.install-out.txt --library=/Library/Frameworks/R.framework/Resources/library --no-vignettes --timings snpStats_1.56.0.tar.gz StartedAt: 2025-01-31 10:21:54 -0500 (Fri, 31 Jan 2025) EndedAt: 2025-01-31 10:24:18 -0500 (Fri, 31 Jan 2025) EllapsedTime: 143.9 seconds RetCode: 0 Status: WARNINGS CheckDir: snpStats.Rcheck Warnings: 2