Package: snpStats Version: 1.56.0 Command: /Library/Frameworks/R.framework/Resources/bin/R CMD build --keep-empty-dirs --no-resave-data snpStats StartedAt: 2025-01-30 23:01:51 -0500 (Thu, 30 Jan 2025) EndedAt: 2025-01-30 23:04:28 -0500 (Thu, 30 Jan 2025) EllapsedTime: 157.1 seconds RetCode: 0 Status: OK PackageFile: snpStats_1.56.0.tar.gz PackageFileSize: 7.732 MiB