Package: snm Version: 1.54.0 Command: rm -rf snm.buildbin-libdir && mkdir snm.buildbin-libdir && F:\biocbuild\bbs-3.20-bioc\R\bin\R.exe CMD INSTALL --build --library=snm.buildbin-libdir snm_1.54.0.tar.gz StartedAt: 2025-01-31 09:40:17 -0500 (Fri, 31 Jan 2025) EndedAt: 2025-01-31 09:40:32 -0500 (Fri, 31 Jan 2025) EllapsedTime: 15.2 seconds RetCode: 0 Status: OK PackageFile: snm_1.54.0.zip PackageFileSize: 457.4 KiB