Package: snm Version: 1.54.0 Command: rm -rf snm.buildbin-libdir && mkdir snm.buildbin-libdir && /Users/biocbuild/BBS/utils/build-universal.sh snm_1.54.0.tar.gz /Library/Frameworks/R.framework/Resources/bin/R snm.buildbin-libdir StartedAt: 2025-04-01 12:49:01 -0400 (Tue, 01 Apr 2025) EndedAt: 2025-04-01 12:49:18 -0400 (Tue, 01 Apr 2025) EllapsedTime: 16.6 seconds RetCode: 0 Status: OK PackageFile: snm_1.54.0.tgz PackageFileSize: 615.7 KiB