Package: snifter Version: 1.16.0 Command: chmod a+r snifter -R && F:\biocbuild\bbs-3.20-bioc\R\bin\R.exe --arch x64 CMD build --keep-empty-dirs --no-resave-data snifter StartedAt: 2025-02-03 22:15:24 -0500 (Mon, 03 Feb 2025) EndedAt: 2025-02-03 22:17:51 -0500 (Mon, 03 Feb 2025) EllapsedTime: 147.3 seconds RetCode: 0 Status: OK PackageFile: snifter_1.16.0.tar.gz PackageFileSize: 499.5 KiB