Package: smoothclust Version: 1.2.2 Command: chmod a+r smoothclust -R && F:\biocbuild\bbs-3.20-bioc\R\bin\R.exe CMD build --keep-empty-dirs --no-resave-data smoothclust StartedAt: 2025-03-31 22:01:11 -0400 (Mon, 31 Mar 2025) EndedAt: 2025-03-31 22:05:46 -0400 (Mon, 31 Mar 2025) EllapsedTime: 274.9 seconds RetCode: 0 Status: OK PackageFile: smoothclust_1.2.2.tar.gz PackageFileSize: 326.4 KiB