Package: smoothclust Version: 1.2.0 Command: rm -rf smoothclust.buildbin-libdir && mkdir smoothclust.buildbin-libdir && F:\biocbuild\bbs-3.20-bioc\R\bin\R.exe CMD INSTALL --build --library=smoothclust.buildbin-libdir smoothclust_1.2.0.tar.gz StartedAt: 2025-01-28 09:11:46 -0500 (Tue, 28 Jan 2025) EndedAt: 2025-01-28 09:12:28 -0500 (Tue, 28 Jan 2025) EllapsedTime: 42.5 seconds RetCode: 0 Status: OK PackageFile: smoothclust_1.2.0.zip PackageFileSize: 343.8 KiB