Package: smoothclust Version: 1.2.0 Command: /Library/Frameworks/R.framework/Resources/bin/R CMD check --install=check:smoothclust.install-out.txt --library=/Library/Frameworks/R.framework/Resources/library --no-vignettes --timings smoothclust_1.2.0.tar.gz StartedAt: 2025-01-31 10:19:38 -0500 (Fri, 31 Jan 2025) EndedAt: 2025-01-31 10:32:17 -0500 (Fri, 31 Jan 2025) EllapsedTime: 758.7 seconds RetCode: 0 Status: OK CheckDir: smoothclust.Rcheck Warnings: 0