Package: smoothclust Version: 1.2.2 Command: /Library/Frameworks/R.framework/Resources/bin/R CMD INSTALL smoothclust StartedAt: 2025-03-31 15:45:09 -0400 (Mon, 31 Mar 2025) EndedAt: 2025-03-31 15:45:40 -0400 (Mon, 31 Mar 2025) EllapsedTime: 31.3 seconds RetCode: 0 Status: OK