Package: smoothclust Version: 1.2.2 Command: rm -rf smoothclust.buildbin-libdir && mkdir smoothclust.buildbin-libdir && /Users/biocbuild/BBS/utils/build-universal.sh smoothclust_1.2.2.tar.gz /Library/Frameworks/R.framework/Resources/bin/R smoothclust.buildbin-libdir StartedAt: 2025-04-02 16:25:20 -0400 (Wed, 02 Apr 2025) EndedAt: 2025-04-02 16:25:54 -0400 (Wed, 02 Apr 2025) EllapsedTime: 33.9 seconds RetCode: 0 Status: OK PackageFile: smoothclust_1.2.2.tgz PackageFileSize: 1.104 MiB