Package: slingshot Version: 2.14.0 Command: /home/biocbuild/R/R/bin/R CMD INSTALL slingshot StartedAt: 2025-01-30 20:18:06 -0000 (Thu, 30 Jan 2025) EndedAt: 2025-01-30 20:18:37 -0000 (Thu, 30 Jan 2025) EllapsedTime: 31.2 seconds RetCode: 0 Status: OK