Package: slingshot Version: 2.14.0 Command: /home/biocbuild/R/R/bin/R CMD build --keep-empty-dirs --no-resave-data slingshot StartedAt: 2025-02-04 03:06:02 -0000 (Tue, 04 Feb 2025) EndedAt: 2025-02-04 03:07:25 -0000 (Tue, 04 Feb 2025) EllapsedTime: 83.2 seconds RetCode: 1 Status: ERROR PackageFile: None PackageFileSize: NA