Package: slingshot Version: 2.14.0 Command: rm -rf slingshot.buildbin-libdir && mkdir slingshot.buildbin-libdir && F:\biocbuild\bbs-3.20-bioc\R\bin\R.exe CMD INSTALL --build --library=slingshot.buildbin-libdir slingshot_2.14.0.tar.gz StartedAt: 2025-04-01 09:15:45 -0400 (Tue, 01 Apr 2025) EndedAt: 2025-04-01 09:16:46 -0400 (Tue, 01 Apr 2025) EllapsedTime: 61.0 seconds RetCode: 0 Status: OK PackageFile: slingshot_2.14.0.zip PackageFileSize: 1.571 MiB