Package: skewr Version: 1.38.0 Command: /Library/Frameworks/R.framework/Resources/bin/R CMD INSTALL skewr StartedAt: 2025-02-03 16:49:33 -0500 (Mon, 03 Feb 2025) EndedAt: 2025-02-03 16:51:15 -0500 (Mon, 03 Feb 2025) EllapsedTime: 101.9 seconds RetCode: 0 Status: OK