Package: skewr Version: 1.38.0 Command: /Library/Frameworks/R.framework/Resources/bin/R CMD build --keep-empty-dirs --no-resave-data skewr StartedAt: 2025-01-27 22:43:34 -0500 (Mon, 27 Jan 2025) EndedAt: 2025-01-27 22:48:02 -0500 (Mon, 27 Jan 2025) EllapsedTime: 267.1 seconds RetCode: 0 Status: OK PackageFile: skewr_1.38.0.tar.gz PackageFileSize: 767.3 KiB