Package: sketchR Version: 1.2.0 Command: F:\biocbuild\bbs-3.20-bioc\R\bin\R.exe CMD INSTALL sketchR StartedAt: 2025-01-27 15:45:53 -0500 (Mon, 27 Jan 2025) EndedAt: 2025-01-27 15:46:19 -0500 (Mon, 27 Jan 2025) EllapsedTime: 25.6 seconds RetCode: 0 Status: OK