Package: sizepower Version: 1.76.0 Command: /home/biocbuild/R/R/bin/R CMD check --install=check:sizepower.install-out.txt --library=/home/biocbuild/R/R/site-library --no-vignettes --timings sizepower_1.76.0.tar.gz StartedAt: 2025-01-28 11:23:57 -0000 (Tue, 28 Jan 2025) EndedAt: 2025-01-28 11:24:11 -0000 (Tue, 28 Jan 2025) EllapsedTime: 14.0 seconds RetCode: 0 Status: OK CheckDir: sizepower.Rcheck Warnings: 0