Package: sizepower Version: 1.76.0 Command: /home/biocbuild/bbs-3.20-bioc/R/bin/R CMD INSTALL sizepower StartedAt: 2025-01-27 15:56:27 -0500 (Mon, 27 Jan 2025) EndedAt: 2025-01-27 15:56:39 -0500 (Mon, 27 Jan 2025) EllapsedTime: 11.7 seconds RetCode: 0 Status: OK