Package: sizepower Version: 1.76.0 Command: /Library/Frameworks/R.framework/Resources/bin/R CMD INSTALL sizepower StartedAt: 2025-01-27 15:08:58 -0500 (Mon, 27 Jan 2025) EndedAt: 2025-01-27 15:09:18 -0500 (Mon, 27 Jan 2025) EllapsedTime: 20.4 seconds RetCode: 0 Status: OK